BEGIN:VCALENDAR
VERSION:2.0
PRODID:-//jEvents 2.0 for Joomla//EN
CALSCALE:GREGORIAN
METHOD:PUBLISH
BEGIN:VEVENT
UID:466ac571f7e6368d9eb6e803197fd942
CATEGORIES:Veranstaltungen
CREATED:20180606T093503
SUMMARY:Väter-Kinder-Café
LOCATION:Kinderzentrum Lauterbacher Straße
DESCRIPTION;ENCODING=QUOTED-PRINTABLE:\n\nEin Treffpunkt für Väter mit ihren Kindern von 0 bis 12 Jahren. Hier kö
 nnen sie mit ihren Kindern gemütlich frühstücken, spielen und sich mit ande
 ren Vätern austauschen. Ohne Voranmeldung und kostenlos.\n\n\nJeden ersten 
 Samstag im Monat von 10 bis 13 Uhr im Kinderzentrum Lauterbacher Straße 18,
  60386 Frankfurt am Main.\n
CONTACT:Diese E-Mail-Adresse ist vor Spambots geschützt! Zur Anzeige muss JavaScript eingeschaltet sein!
				document.getElementById('cloak59ee294472bef1be14b00699d26f2d7d').innerHTML = '';
				var prefix = '&#109;a' + 'i&#108;' + '&#116;o';
				var path = 'hr' + 'ef' + '=';
				var addy59ee294472bef1be14b00699d26f2d7d = '&#105;nf&#111;' + '&#64;';
				addy59ee294472bef1be14b00699d26f2d7d = addy59ee294472bef1be14b00699d26f2d7d + 'fgzn' + '&#46;' + 'd&#101;';
				var addy_text59ee294472bef1be14b00699d26f2d7d = '&#105;nf&#111;' + '&#64;' + 'fgzn' + '&#46;' + 'd&#101;';document.getElementById('cloak59ee294472bef1be14b00699d26f2d7d').innerHTML += ''+addy_text59ee294472bef1be14b00699d26f2d7d+'';
		; 069 / 59 17 00
DTSTAMP:20260423T065025Z
DTSTART:20250802T080000Z
DTEND:20250802T110000Z
SEQUENCE:0
TRANSP:OPAQUE
END:VEVENT
END:VCALENDAR