BEGIN:VCALENDAR
VERSION:2.0
PRODID:-//jEvents 2.0 for Joomla//EN
CALSCALE:GREGORIAN
METHOD:PUBLISH
BEGIN:VEVENT
UID:466ac571f7e6368d9eb6e803197fd942
CATEGORIES:Veranstaltungen
CREATED:20180606T093503
SUMMARY:Väter-Kinder-Café
LOCATION:Kinderzentrum Lauterbacher Straße
DESCRIPTION;ENCODING=QUOTED-PRINTABLE:<p>Ein Treffpunkt für Väter mit ihren Kindern von 0 bis 12 Jahren. Hier kön
 nen sie mit ihren Kindern gemütlich frühstücken, spielen und sich mit ander
 en Vätern austauschen. Ohne Voranmeldung und kostenlos.</p><p>Jeden ersten 
 Samstag im Monat von 10 bis 13 Uhr im Kinderzentrum Lauterbacher Straße 18,
  60386 Frankfurt am Main.</p>
CONTACT:Diese E-Mail-Adresse ist vor Spambots geschützt! Zur Anzeige muss JavaScript eingeschaltet sein!
				document.getElementById('cloak26ce220ab6a9a5511311fd776936cba1').innerHTML = '';
				var prefix = '&#109;a' + 'i&#108;' + '&#116;o';
				var path = 'hr' + 'ef' + '=';
				var addy26ce220ab6a9a5511311fd776936cba1 = '&#105;nf&#111;' + '&#64;';
				addy26ce220ab6a9a5511311fd776936cba1 = addy26ce220ab6a9a5511311fd776936cba1 + 'fgzn' + '&#46;' + 'd&#101;';
				var addy_text26ce220ab6a9a5511311fd776936cba1 = '&#105;nf&#111;' + '&#64;' + 'fgzn' + '&#46;' + 'd&#101;';document.getElementById('cloak26ce220ab6a9a5511311fd776936cba1').innerHTML += ''+addy_text26ce220ab6a9a5511311fd776936cba1+'';
		; 069 / 59 17 00
DTSTAMP:20260423T045810Z
DTSTART:20241102T090000Z
DTEND:20241102T120000Z
SEQUENCE:0
TRANSP:OPAQUE
END:VEVENT
END:VCALENDAR