BEGIN:VCALENDAR
VERSION:2.0
PRODID:-//jEvents 2.0 for Joomla//EN
CALSCALE:GREGORIAN
METHOD:PUBLISH
BEGIN:VEVENT
UID:466ac571f7e6368d9eb6e803197fd942
CATEGORIES:Veranstaltungen
CREATED:20180606T093503
SUMMARY:Väter-Kinder-Café
LOCATION:Kinderzentrum Lauterbacher Straße
DESCRIPTION;ENCODING=QUOTED-PRINTABLE:\n\nEin Treffpunkt für Väter mit ihren Kindern von 0 bis 12 Jahren. Hier kö
 nnen sie mit ihren Kindern gemütlich frühstücken, spielen und sich mit ande
 ren Vätern austauschen. Ohne Voranmeldung und kostenlos.\n\n\nJeden ersten 
 Samstag im Monat von 10 bis 13 Uhr im Kinderzentrum Lauterbacher Straße 18,
  60386 Frankfurt am Main.\n
CONTACT:Diese E-Mail-Adresse ist vor Spambots geschützt! Zur Anzeige muss JavaScript eingeschaltet sein!
				document.getElementById('cloakad3c2c3ac140a124de8506f63bf045ce').innerHTML = '';
				var prefix = '&#109;a' + 'i&#108;' + '&#116;o';
				var path = 'hr' + 'ef' + '=';
				var addyad3c2c3ac140a124de8506f63bf045ce = '&#105;nf&#111;' + '&#64;';
				addyad3c2c3ac140a124de8506f63bf045ce = addyad3c2c3ac140a124de8506f63bf045ce + 'fgzn' + '&#46;' + 'd&#101;';
				var addy_textad3c2c3ac140a124de8506f63bf045ce = '&#105;nf&#111;' + '&#64;' + 'fgzn' + '&#46;' + 'd&#101;';document.getElementById('cloakad3c2c3ac140a124de8506f63bf045ce').innerHTML += ''+addy_textad3c2c3ac140a124de8506f63bf045ce+'';
		; 069 / 59 17 00
DTSTAMP:20260423T064641Z
DTSTART:20241005T080000Z
DTEND:20241005T110000Z
SEQUENCE:0
TRANSP:OPAQUE
END:VEVENT
END:VCALENDAR