BEGIN:VCALENDAR
VERSION:2.0
PRODID:-//jEvents 2.0 for Joomla//EN
CALSCALE:GREGORIAN
METHOD:PUBLISH
BEGIN:VEVENT
UID:70962f2fac7ed91a09b5b4824a0018de
CATEGORIES:Veranstaltungen
CREATED:20180601T093557
SUMMARY:Offener Treff für alle
LOCATION:Gesundheitsamt   ,  
DESCRIPTION;ENCODING=QUOTED-PRINTABLE:<p>Seit April bieten wir zweimal monatlich offene Treffen, bei denen alle F
 amilienmitglieder herzlich willkommen sind. Eine Möglichkeit zum Austausch 
 und zur Beratung.</p>
CONTACT:Diese E-Mail-Adresse ist vor Spambots geschützt! Zur Anzeige muss JavaScript eingeschaltet sein!
				document.getElementById('cloak74795aa092c4a005115078db92b19c10').innerHTML = '';
				var prefix = '&#109;a' + 'i&#108;' + '&#116;o';
				var path = 'hr' + 'ef' + '=';
				var addy74795aa092c4a005115078db92b19c10 = 'w&#105;&#101;sb&#97;d&#101;n' + '&#64;';
				addy74795aa092c4a005115078db92b19c10 = addy74795aa092c4a005115078db92b19c10 + 'v&#97;fk' + '&#46;' + 'd&#101;';
				var addy_text74795aa092c4a005115078db92b19c10 = 'w&#105;&#101;sb&#97;d&#101;n' + '&#64;' + 'v&#97;fk' + '&#46;' + 'd&#101;';document.getElementById('cloak74795aa092c4a005115078db92b19c10').innerHTML += ''+addy_text74795aa092c4a005115078db92b19c10+'';
		; 0157 - 547 39 457
DTSTAMP:20260423T065625Z
DTSTART:20251209T191500Z
DTEND:20251209T210000Z
SEQUENCE:0
TRANSP:OPAQUE
END:VEVENT
END:VCALENDAR