BEGIN:VCALENDAR
VERSION:2.0
PRODID:-//jEvents 2.0 for Joomla//EN
CALSCALE:GREGORIAN
METHOD:PUBLISH
BEGIN:VEVENT
UID:70962f2fac7ed91a09b5b4824a0018de
CATEGORIES:Veranstaltungen
CREATED:20180601T093557
SUMMARY:Offener Treff für alle
LOCATION:Gesundheitsamt   ,  
DESCRIPTION;ENCODING=QUOTED-PRINTABLE:\n\nSeit April bieten wir zweimal monatlich offene Treffen, bei denen alle 
 Familienmitglieder herzlich willkommen sind. Eine Möglichkeit zum Austausch
  und zur Beratung.\n
CONTACT:Diese E-Mail-Adresse ist vor Spambots geschützt! Zur Anzeige muss JavaScript eingeschaltet sein!
				document.getElementById('cloak9b8e7e3fc2acd2ac464689d307aa9c37').innerHTML = '';
				var prefix = '&#109;a' + 'i&#108;' + '&#116;o';
				var path = 'hr' + 'ef' + '=';
				var addy9b8e7e3fc2acd2ac464689d307aa9c37 = 'w&#105;&#101;sb&#97;d&#101;n' + '&#64;';
				addy9b8e7e3fc2acd2ac464689d307aa9c37 = addy9b8e7e3fc2acd2ac464689d307aa9c37 + 'v&#97;fk' + '&#46;' + 'd&#101;';
				var addy_text9b8e7e3fc2acd2ac464689d307aa9c37 = 'w&#105;&#101;sb&#97;d&#101;n' + '&#64;' + 'v&#97;fk' + '&#46;' + 'd&#101;';document.getElementById('cloak9b8e7e3fc2acd2ac464689d307aa9c37').innerHTML += ''+addy_text9b8e7e3fc2acd2ac464689d307aa9c37+'';
		; 0157 - 547 39 457
DTSTAMP:20260423T065030Z
DTSTART:20251014T181500Z
DTEND:20251014T200000Z
SEQUENCE:0
TRANSP:OPAQUE
END:VEVENT
END:VCALENDAR