BEGIN:VCALENDAR
VERSION:2.0
PRODID:-//jEvents 2.0 for Joomla//EN
CALSCALE:GREGORIAN
METHOD:PUBLISH
BEGIN:VEVENT
UID:70962f2fac7ed91a09b5b4824a0018de
CATEGORIES:Veranstaltungen
CREATED:20180601T093557
SUMMARY:Offener Treff für alle
LOCATION:Gesundheitsamt   ,  
DESCRIPTION;ENCODING=QUOTED-PRINTABLE:<p>Seit April bieten wir zweimal monatlich offene Treffen, bei denen alle F
 amilienmitglieder herzlich willkommen sind. Eine Möglichkeit zum Austausch 
 und zur Beratung.</p>
CONTACT:Diese E-Mail-Adresse ist vor Spambots geschützt! Zur Anzeige muss JavaScript eingeschaltet sein!
				document.getElementById('cloake1bf45092f7f9eb4b95b42131f790839').innerHTML = '';
				var prefix = '&#109;a' + 'i&#108;' + '&#116;o';
				var path = 'hr' + 'ef' + '=';
				var addye1bf45092f7f9eb4b95b42131f790839 = 'w&#105;&#101;sb&#97;d&#101;n' + '&#64;';
				addye1bf45092f7f9eb4b95b42131f790839 = addye1bf45092f7f9eb4b95b42131f790839 + 'v&#97;fk' + '&#46;' + 'd&#101;';
				var addy_texte1bf45092f7f9eb4b95b42131f790839 = 'w&#105;&#101;sb&#97;d&#101;n' + '&#64;' + 'v&#97;fk' + '&#46;' + 'd&#101;';document.getElementById('cloake1bf45092f7f9eb4b95b42131f790839').innerHTML += ''+addy_texte1bf45092f7f9eb4b95b42131f790839+'';
		; 0157 - 547 39 457
DTSTAMP:20260423T071011Z
DTSTART:20250513T181500Z
DTEND:20250513T200000Z
SEQUENCE:0
TRANSP:OPAQUE
END:VEVENT
END:VCALENDAR