BEGIN:VCALENDAR
VERSION:2.0
PRODID:-//jEvents 2.0 for Joomla//EN
CALSCALE:GREGORIAN
METHOD:PUBLISH
BEGIN:VEVENT
UID:70962f2fac7ed91a09b5b4824a0018de
CATEGORIES:Veranstaltungen
CREATED:20180601T093557
SUMMARY:Offener Treff für alle
LOCATION:Gesundheitsamt   ,  
DESCRIPTION;ENCODING=QUOTED-PRINTABLE:\n\nSeit April bieten wir zweimal monatlich offene Treffen, bei denen alle 
 Familienmitglieder herzlich willkommen sind. Eine Möglichkeit zum Austausch
  und zur Beratung.\n
CONTACT:Diese E-Mail-Adresse ist vor Spambots geschützt! Zur Anzeige muss JavaScript eingeschaltet sein!
				document.getElementById('cloakee62d00319a58623b1355e7696e021d6').innerHTML = '';
				var prefix = '&#109;a' + 'i&#108;' + '&#116;o';
				var path = 'hr' + 'ef' + '=';
				var addyee62d00319a58623b1355e7696e021d6 = 'w&#105;&#101;sb&#97;d&#101;n' + '&#64;';
				addyee62d00319a58623b1355e7696e021d6 = addyee62d00319a58623b1355e7696e021d6 + 'v&#97;fk' + '&#46;' + 'd&#101;';
				var addy_textee62d00319a58623b1355e7696e021d6 = 'w&#105;&#101;sb&#97;d&#101;n' + '&#64;' + 'v&#97;fk' + '&#46;' + 'd&#101;';document.getElementById('cloakee62d00319a58623b1355e7696e021d6').innerHTML += ''+addy_textee62d00319a58623b1355e7696e021d6+'';
		; 0157 - 547 39 457
DTSTAMP:20260423T070239Z
DTSTART:20250408T181500Z
DTEND:20250408T200000Z
SEQUENCE:0
TRANSP:OPAQUE
END:VEVENT
END:VCALENDAR