BEGIN:VCALENDAR
VERSION:2.0
PRODID:-//jEvents 2.0 for Joomla//EN
CALSCALE:GREGORIAN
METHOD:PUBLISH
BEGIN:VEVENT
UID:1129288ecd6b2beebb64037d4e28cf41
CATEGORIES:Veranstaltungen
CREATED:20180601T093357
SUMMARY:Offenes Treffen
LOCATION:Bonhoefferhaus   
DESCRIPTION;ENCODING=QUOTED-PRINTABLE:<p>Seit April bieten wir zweimal monatlich offene Treffen, bei denen alle F
 amilienmitglieder herzlich willkommen sind. Eine Möglichkeit zum Austausch 
 und zur Beratung.</p>
CONTACT:Diese E-Mail-Adresse ist vor Spambots geschützt! Zur Anzeige muss JavaScript eingeschaltet sein!
				document.getElementById('cloak45f6a3d37c661f19be77f7cb6ec22439').innerHTML = '';
				var prefix = '&#109;a' + 'i&#108;' + '&#116;o';
				var path = 'hr' + 'ef' + '=';
				var addy45f6a3d37c661f19be77f7cb6ec22439 = 'w&#105;&#101;sb&#97;d&#101;n' + '&#64;';
				addy45f6a3d37c661f19be77f7cb6ec22439 = addy45f6a3d37c661f19be77f7cb6ec22439 + 'v&#97;fk' + '&#46;' + 'd&#101;';
				var addy_text45f6a3d37c661f19be77f7cb6ec22439 = 'w&#105;&#101;sb&#97;d&#101;n' + '&#64;' + 'v&#97;fk' + '&#46;' + 'd&#101;';document.getElementById('cloak45f6a3d37c661f19be77f7cb6ec22439').innerHTML += ''+addy_text45f6a3d37c661f19be77f7cb6ec22439+'';
		; 0157 - 547 39 457
DTSTAMP:20260423T045811Z
DTSTART:20240509T173000Z
DTEND:20240509T200000Z
SEQUENCE:0
TRANSP:OPAQUE
END:VEVENT
END:VCALENDAR