BEGIN:VCALENDAR
VERSION:2.0
PRODID:-//jEvents 2.0 for Joomla//EN
CALSCALE:GREGORIAN
METHOD:PUBLISH
BEGIN:VEVENT
UID:1129288ecd6b2beebb64037d4e28cf41
CATEGORIES:Veranstaltungen
CREATED:20180601T093357
SUMMARY:Offenes Treffen
LOCATION:Bonhoefferhaus   
DESCRIPTION;ENCODING=QUOTED-PRINTABLE:\n\nSeit April bieten wir zweimal monatlich offene Treffen, bei denen alle 
 Familienmitglieder herzlich willkommen sind. Eine Möglichkeit zum Austausch
  und zur Beratung.\n
CONTACT:Diese E-Mail-Adresse ist vor Spambots geschützt! Zur Anzeige muss JavaScript eingeschaltet sein!
				document.getElementById('cloakebea07081306a3dd16243b9c6503da39').innerHTML = '';
				var prefix = '&#109;a' + 'i&#108;' + '&#116;o';
				var path = 'hr' + 'ef' + '=';
				var addyebea07081306a3dd16243b9c6503da39 = 'w&#105;&#101;sb&#97;d&#101;n' + '&#64;';
				addyebea07081306a3dd16243b9c6503da39 = addyebea07081306a3dd16243b9c6503da39 + 'v&#97;fk' + '&#46;' + 'd&#101;';
				var addy_textebea07081306a3dd16243b9c6503da39 = 'w&#105;&#101;sb&#97;d&#101;n' + '&#64;' + 'v&#97;fk' + '&#46;' + 'd&#101;';document.getElementById('cloakebea07081306a3dd16243b9c6503da39').innerHTML += ''+addy_textebea07081306a3dd16243b9c6503da39+'';
		; 0157 - 547 39 457
DTSTAMP:20260423T062649Z
DTSTART:20240201T183000Z
DTEND:20240201T210000Z
SEQUENCE:0
TRANSP:OPAQUE
END:VEVENT
END:VCALENDAR