BEGIN:VCALENDAR
VERSION:2.0
PRODID:-//jEvents 2.0 for Joomla//EN
CALSCALE:GREGORIAN
METHOD:PUBLISH
BEGIN:VEVENT
UID:87ee070fbd7260a26e9d2a557ac38ad1
CATEGORIES:Veranstaltungen
CREATED:20180529T104612
SUMMARY:Alleinerziehenden-Treff
LOCATION:Eltern helfen Eltern e.V. 
DESCRIPTION;ENCODING=QUOTED-PRINTABLE:<p><span style="color: #000000;">Der Alleinerziehenden-Treff bietet regelmä
 ßige Kontakte für Alleinerziehende, die Menschen in ähnlicher Lebenssituati
 on kennen lernen möchten.</span></p><p><span style="color: #000000;">Hier k
 önnen Erfahrungen ausgetauscht werden, Tipps und Ratschläge weitergegeben o
 der gemeinsame Unternehmungen geplant werden.</span></p><p><span style="col
 or: #000000;">Wann: Jeden 1. und 3. Samstag im Monat</span></p><p><span sty
 le="color: #ff0000;">März 2020: Aufgrund der aktuellen Situation finden bei
  uns zurzeit keine Veranstaltungen statt. Wir infomieren zu gegebener Zeit 
 auf unserer Internetseite über die Wiederaufnahme der Termine.</span></p>
CONTACT:Diese E-Mail-Adresse ist vor Spambots geschützt! Zur Anzeige muss JavaScript eingeschaltet sein!
				document.getElementById('cloak9d023a4033a97890e8d6a0afa7b3fb2e').innerHTML = '';
				var prefix = '&#109;a' + 'i&#108;' + '&#116;o';
				var path = 'hr' + 'ef' + '=';
				var addy9d023a4033a97890e8d6a0afa7b3fb2e = '&#105;nf&#111;' + '&#64;';
				addy9d023a4033a97890e8d6a0afa7b3fb2e = addy9d023a4033a97890e8d6a0afa7b3fb2e + '&#101;h&#101;-g&#105;&#101;ss&#101;n' + '&#46;' + 'd&#101;';
				var addy_text9d023a4033a97890e8d6a0afa7b3fb2e = '&#105;nf&#111;' + '&#64;' + '&#101;h&#101;-g&#105;&#101;ss&#101;n' + '&#46;' + 'd&#101;';document.getElementById('cloak9d023a4033a97890e8d6a0afa7b3fb2e').innerHTML += ''+addy_text9d023a4033a97890e8d6a0afa7b3fb2e+'';
		, 0641 / 33 33 0
DTSTAMP:20260425T224340Z
DTSTART:20220219T140000Z
DTEND:20220219T170000Z
SEQUENCE:0
TRANSP:OPAQUE
END:VEVENT
END:VCALENDAR