BEGIN:VCALENDAR
VERSION:2.0
PRODID:-//jEvents 2.0 for Joomla//EN
CALSCALE:GREGORIAN
METHOD:PUBLISH
BEGIN:VEVENT
UID:87ee070fbd7260a26e9d2a557ac38ad1
CATEGORIES:Veranstaltungen
CREATED:20180529T104612
SUMMARY:Alleinerziehenden-Treff
LOCATION:Eltern helfen Eltern e.V. 
DESCRIPTION;ENCODING=QUOTED-PRINTABLE:\n\nDer Alleinerziehenden-Treff bietet regelmäßige Kontakte für Alleinerzie
 hende, die Menschen in ähnlicher Lebenssituation kennen lernen möchten.\n\n
 \nHier können Erfahrungen ausgetauscht werden, Tipps und Ratschläge weiterg
 egeben oder gemeinsame Unternehmungen geplant werden.\n\n\nWann: Jeden 1. u
 nd 3. Samstag im Monat\n\n\nMärz 2020: Aufgrund der aktuellen Situation fin
 den bei uns zurzeit keine Veranstaltungen statt. Wir infomieren zu gegebene
 r Zeit auf unserer Internetseite über die Wiederaufnahme der Termine.\n
CONTACT:Diese E-Mail-Adresse ist vor Spambots geschützt! Zur Anzeige muss JavaScript eingeschaltet sein!
				document.getElementById('cloak6cc3125e170545f63237c7472a1f8528').innerHTML = '';
				var prefix = '&#109;a' + 'i&#108;' + '&#116;o';
				var path = 'hr' + 'ef' + '=';
				var addy6cc3125e170545f63237c7472a1f8528 = '&#105;nf&#111;' + '&#64;';
				addy6cc3125e170545f63237c7472a1f8528 = addy6cc3125e170545f63237c7472a1f8528 + '&#101;h&#101;-g&#105;&#101;ss&#101;n' + '&#46;' + 'd&#101;';
				var addy_text6cc3125e170545f63237c7472a1f8528 = '&#105;nf&#111;' + '&#64;' + '&#101;h&#101;-g&#105;&#101;ss&#101;n' + '&#46;' + 'd&#101;';document.getElementById('cloak6cc3125e170545f63237c7472a1f8528').innerHTML += ''+addy_text6cc3125e170545f63237c7472a1f8528+'';
		, 0641 / 33 33 0
DTSTAMP:20260425T204745Z
DTSTART:20220205T140000Z
DTEND:20220205T170000Z
SEQUENCE:0
TRANSP:OPAQUE
END:VEVENT
END:VCALENDAR