BEGIN:VCALENDAR
VERSION:2.0
PRODID:-//jEvents 2.0 for Joomla//EN
CALSCALE:GREGORIAN
METHOD:PUBLISH
BEGIN:VEVENT
UID:466ac571f7e6368d9eb6e803197fd942
CATEGORIES:Veranstaltungen
CREATED:19700101T010000
SUMMARY:Väter-Kinder-Café
LOCATION:Veranstaltungsort Kinderzentrum Lauterbacher StraßeAdresse Lauterbacher Str
 aße 18 , 60386  Frankfurt am Main\nBundesland Hessen
DESCRIPTION;ENCODING=QUOTED-PRINTABLE:<p>Ein Treffpunkt für Väter mit ihren Kindern von 0 bis 12 Jahren. Hier kön
 nen sie mit ihren Kindern gemütlich frühstücken, spielen und sich mit ander
 en Vätern austauschen. Ohne Voranmeldung und kostenlos.</p><p>Jeden ersten 
 Samstag im Monat von 10 bis 13 Uhr im Kinderzentrum Lauterbacher Straße 18,
  60386 Frankfurt am Main.</p>
CONTACT:info@fgzn.de; 069 / 59 17 00
DTSTAMP:20260423T091438Z
DTSTART:20180804T080000Z
DTEND:20180804T110000Z
SEQUENCE:0
RRULE:FREQ=MONTHLY;COUNT=100;INTERVAL=1;BYDAY=+1SA
TRANSP:OPAQUE
END:VEVENT
END:VCALENDAR