BEGIN:VCALENDAR
VERSION:2.0
PRODID:-//jEvents 2.0 for Joomla//EN
CALSCALE:GREGORIAN
METHOD:PUBLISH
BEGIN:VEVENT
UID:70962f2fac7ed91a09b5b4824a0018de
CATEGORIES:Veranstaltungen
CREATED:19700101T010000
SUMMARY:Offener Treff für alle
LOCATION:Veranstaltungsort Gesundheitsamt   ,  Adresse Konradinerallee 11, 65189 Wie
 sbaden\nBundesland Hessen
DESCRIPTION;ENCODING=QUOTED-PRINTABLE:<p>Seit April bieten wir zweimal monatlich offene Treffen, bei denen alle F
 amilienmitglieder herzlich willkommen sind. Eine Möglichkeit zum Austausch 
 und zur Beratung.</p>
CONTACT:wiesbaden@vafk.de; 0157 - 547 39 457
DTSTAMP:20260423T065902Z
DTSTART:20180710T181500Z
DTEND:20180710T200000Z
SEQUENCE:0
RRULE:FREQ=MONTHLY;COUNT=100;INTERVAL=1;BYDAY=+2TU
TRANSP:OPAQUE
END:VEVENT
END:VCALENDAR