BEGIN:VCALENDAR
VERSION:2.0
PRODID:-//jEvents 2.0 for Joomla//EN
CALSCALE:GREGORIAN
METHOD:PUBLISH
BEGIN:VEVENT
UID:1129288ecd6b2beebb64037d4e28cf41
CATEGORIES:Veranstaltungen
CREATED:19700101T010000
SUMMARY:Offenes Treffen
LOCATION:Veranstaltungsort Bonhoefferhaus   Adresse Fritz-Kalle-Straße 38, 65187 Wie
 sbaden\nBundesland Hessen
DESCRIPTION;ENCODING=QUOTED-PRINTABLE:\n\nSeit April bieten wir zweimal monatlich offene Treffen, bei denen alle 
 Familienmitglieder herzlich willkommen sind. Eine Möglichkeit zum Austausch
  und zur Beratung.\n
CONTACT:wiesbaden@vafk.de; 0157 - 547 39 457
DTSTAMP:20260423T011731Z
DTSTART:20180705T173000Z
DTEND:20180705T200000Z
SEQUENCE:0
RRULE:FREQ=MONTHLY;COUNT=100;INTERVAL=1;BYDAY=-4TH,-5TH
TRANSP:OPAQUE
END:VEVENT
END:VCALENDAR