BEGIN:VCALENDAR
VERSION:2.0
PRODID:-//jEvents 2.0 for Joomla//EN
CALSCALE:GREGORIAN
METHOD:PUBLISH
BEGIN:VEVENT
UID:87ee070fbd7260a26e9d2a557ac38ad1
CATEGORIES:Veranstaltungen
CREATED:19700101T010000
SUMMARY:Alleinerziehenden-Treff
LOCATION:Veranstaltungsort Eltern helfen Eltern e.V. Adresse Rooseveltstraße 3, 3539
 4 Gießen\nBundesland Hessen
DESCRIPTION;ENCODING=QUOTED-PRINTABLE:<p><span style="color: #000000;">Der Alleinerziehenden-Treff bietet regelmä
 ßige Kontakte für Alleinerziehende, die Menschen in ähnlicher Lebenssituati
 on kennen lernen möchten.</span></p><p><span style="color: #000000;">Hier k
 önnen Erfahrungen ausgetauscht werden, Tipps und Ratschläge weitergegeben o
 der gemeinsame Unternehmungen geplant werden.</span></p><p><span style="col
 or: #000000;">Wann: Jeden 1. und 3. Samstag im Monat</span></p><p><span sty
 le="color: #ff0000;">März 2020: Aufgrund der aktuellen Situation finden bei
  uns zurzeit keine Veranstaltungen statt. Wir infomieren zu gegebener Zeit 
 auf unserer Internetseite über die Wiederaufnahme der Termine.</span></p>
CONTACT:info@ehe-giessen.de, 0641 / 33 33 0
DTSTAMP:20260425T204418Z
DTSTART:20180602T130000Z
DTEND:20180602T160000Z
SEQUENCE:0
RRULE:FREQ=MONTHLY;COUNT=100;INTERVAL=1;BYDAY=+1SA,+3SA
TRANSP:OPAQUE
END:VEVENT
END:VCALENDAR